BEGIN:VCALENDAR
VERSION:2.0
PRODID:-//Catholic Parish of Christchurch North - ECPv5.3.1.1//NONSGML v1.0//EN
CALSCALE:GREGORIAN
METHOD:PUBLISH
X-WR-CALNAME:Catholic Parish of Christchurch North
X-ORIGINAL-URL:https://christchurchnorth.org.nz
X-WR-CALDESC:Events for Catholic Parish of Christchurch North
BEGIN:VTIMEZONE
TZID:Pacific/Auckland
BEGIN:STANDARD
TZOFFSETFROM:+1300
TZOFFSETTO:+1200
TZNAME:NZST
DTSTART:20210403T140000
END:STANDARD
BEGIN:DAYLIGHT
TZOFFSETFROM:+1200
TZOFFSETTO:+1300
TZNAME:NZDT
DTSTART:20210925T140000
END:DAYLIGHT
END:VTIMEZONE
BEGIN:VEVENT
DTSTART;TZID=Pacific/Auckland:20210202T190000
DTEND;TZID=Pacific/Auckland:20210202T203000
DTSTAMP:20210120T184211
CREATED:20210112T015940Z
LAST-MODIFIED:20210114T191920Z
UID:2171-1612292400-1612297800@christchurchnorth.org.nz
SUMMARY:New Buildings Consultation
DESCRIPTION:Please join us as we begin our public parish consultations regarding the new Church and new Pastoral Community Centre. \nWe encourage as many of you to come to one of these meetings to explore what this may look like as we continue to make concrete Bishop’s plan for our parish\, while making sure that these buildings will serve the new parish’s mission statement and needs. \nEach session is limited to 24 people. Please RSVP by using the form below. \nLook forward to seeing you there!
URL:https://christchurchnorth.org.nz/event/consultation-2-feb/
LOCATION:St Matthew’s Church Hall\, 108 Jeffreys Road\, Christchurch\, Canterbury\, 8052\, New Zealand
CATEGORIES:New Buildings Consultation
ATTACH;FMTTYPE=image/png:https://christchurchnorth.org.nz/wp-content/uploads/2021/01/Building-Consultations-1.png
ORGANIZER;CN="North%20Parish%20Building%20Committee":MAILTO:buildingchair@christchurchnorth.org.nz
END:VEVENT
BEGIN:VEVENT
DTSTART;TZID=Pacific/Auckland:20210203T190000
DTEND;TZID=Pacific/Auckland:20210203T203000
DTSTAMP:20210120T184211
CREATED:20210112T030937Z
LAST-MODIFIED:20210114T191757Z
UID:2182-1612378800-1612384200@christchurchnorth.org.nz
SUMMARY:New Buildings Consultation
DESCRIPTION:Please join us as we begin our public parish consultations regarding the new Church and new Pastoral Community Centre. \nWe encourage as many of you to come to one of these meetings to explore what this may look like as we continue to make concrete Bishop’s plan for our parish\, while making sure that these buildings will serve the new parish’s mission statement and needs. \nEach session is limited to 24 people. Please RSVP by using the form below. \nLook forward to seeing you there!
URL:https://christchurchnorth.org.nz/event/consultation-3-feb/
LOCATION:St Joseph’s Pastoral Centre\, 133 Main North Road\, Christchurch\, 8052\, New Zealand
CATEGORIES:New Buildings Consultation
ATTACH;FMTTYPE=image/png:https://christchurchnorth.org.nz/wp-content/uploads/2021/01/Building-Consultations-1.png
ORGANIZER;CN="North%20Parish%20Building%20Committee":MAILTO:buildingchair@christchurchnorth.org.nz
END:VEVENT
BEGIN:VEVENT
DTSTART;TZID=Pacific/Auckland:20210209T190000
DTEND;TZID=Pacific/Auckland:20210209T203000
DTSTAMP:20210120T184211
CREATED:20210112T031511Z
LAST-MODIFIED:20210114T191734Z
UID:2185-1612897200-1612902600@christchurchnorth.org.nz
SUMMARY:New Buildings Consultation
DESCRIPTION:Please join us as we begin our public parish consultations regarding the new Church and new Pastoral Community Centre. \nWe encourage as many of you to come to one of these meetings to explore what this may look like as we continue to make concrete Bishop’s plan for our parish\, while making sure that these buildings will serve the new parish’s mission statement and needs. \nEach session is limited to 24 people. Please RSVP by using the form below. \nLook forward to seeing you there!
URL:https://christchurchnorth.org.nz/event/consultation-9-feb/
LOCATION:St Matthew’s Church Hall\, 108 Jeffreys Road\, Christchurch\, Canterbury\, 8052\, New Zealand
CATEGORIES:New Buildings Consultation
ATTACH;FMTTYPE=image/png:https://christchurchnorth.org.nz/wp-content/uploads/2021/01/Building-Consultations-1.png
ORGANIZER;CN="North%20Parish%20Building%20Committee":MAILTO:buildingchair@christchurchnorth.org.nz
END:VEVENT
BEGIN:VEVENT
DTSTART;TZID=Pacific/Auckland:20210211T190000
DTEND;TZID=Pacific/Auckland:20210211T203000
DTSTAMP:20210120T184211
CREATED:20210112T032800Z
LAST-MODIFIED:20210114T191654Z
UID:2191-1613070000-1613075400@christchurchnorth.org.nz
SUMMARY:New Buildings Consultation
DESCRIPTION:Please join us as we begin our public parish consultations regarding the new Church and new Pastoral Community Centre. \nWe encourage as many of you to come to one of these meetings to explore what this may look like as we continue to make concrete Bishop’s plan for our parish\, while making sure that these buildings will serve the new parish’s mission statement and needs. \nEach session is limited to 24 people. Please RSVP by using the form below. \nLook forward to seeing you there!
URL:https://christchurchnorth.org.nz/event/consultation-11-feb/
LOCATION:St Joseph’s Pastoral Centre\, 133 Main North Road\, Christchurch\, 8052\, New Zealand
CATEGORIES:New Buildings Consultation
ATTACH;FMTTYPE=image/png:https://christchurchnorth.org.nz/wp-content/uploads/2021/01/Building-Consultations-1.png
ORGANIZER;CN="North%20Parish%20Building%20Committee":MAILTO:buildingchair@christchurchnorth.org.nz
END:VEVENT
BEGIN:VEVENT
DTSTART;TZID=Pacific/Auckland:20210216T190000
DTEND;TZID=Pacific/Auckland:20210216T203000
DTSTAMP:20210120T184211
CREATED:20210112T033152Z
LAST-MODIFIED:20210114T191626Z
UID:2194-1613502000-1613507400@christchurchnorth.org.nz
SUMMARY:New Buildings Consultation
DESCRIPTION:Please join us as we begin our public parish consultations regarding the new Church and new Pastoral Community Centre. \nWe encourage as many of you to come to one of these meetings to explore what this may look like as we continue to make concrete Bishop’s plan for our parish\, while making sure that these buildings will serve the new parish’s mission statement and needs. \nEach session is limited to 24 people. Please RSVP by using the form below. \nLook forward to seeing you there!
URL:https://christchurchnorth.org.nz/event/consultation-16-feb/
LOCATION:St Matthew’s Church Hall\, 108 Jeffreys Road\, Christchurch\, Canterbury\, 8052\, New Zealand
CATEGORIES:New Buildings Consultation
ATTACH;FMTTYPE=image/png:https://christchurchnorth.org.nz/wp-content/uploads/2021/01/Building-Consultations-1.png
ORGANIZER;CN="North%20Parish%20Building%20Committee":MAILTO:buildingchair@christchurchnorth.org.nz
END:VEVENT
BEGIN:VEVENT
DTSTART;TZID=Pacific/Auckland:20210217T190000
DTEND;TZID=Pacific/Auckland:20210217T203000
DTSTAMP:20210120T184211
CREATED:20210112T033659Z
LAST-MODIFIED:20210114T191557Z
UID:2198-1613588400-1613593800@christchurchnorth.org.nz
SUMMARY:New Buildings Consultation
DESCRIPTION:Please join us as we begin our public parish consultations regarding the new Church and new Pastoral Community Centre. \nWe encourage as many of you to come to one of these meetings to explore what this may look like as we continue to make concrete Bishop’s plan for our parish\, while making sure that these buildings will serve the new parish’s mission statement and needs. \nEach session is limited to 24 people. Please RSVP by using the form below. \nLook forward to seeing you there!
URL:https://christchurchnorth.org.nz/event/consultation-17-feb/
LOCATION:St Joseph’s Pastoral Centre\, 133 Main North Road\, Christchurch\, 8052\, New Zealand
CATEGORIES:New Buildings Consultation
ATTACH;FMTTYPE=image/png:https://christchurchnorth.org.nz/wp-content/uploads/2021/01/Building-Consultations-1.png
ORGANIZER;CN="North%20Parish%20Building%20Committee":MAILTO:buildingchair@christchurchnorth.org.nz
END:VEVENT
BEGIN:VEVENT
DTSTART;TZID=Pacific/Auckland:20210219T193000
DTEND;TZID=Pacific/Auckland:20210219T210000
DTSTAMP:20210120T184211
CREATED:20201224T025420Z
LAST-MODIFIED:20210112T040338Z
UID:2041-1613763000-1613768400@christchurchnorth.org.nz
SUMMARY:Healing Service with Fr John Rea sm
DESCRIPTION:Fr John Rea’s ministry of healing is a gift he’s been given.\n\n“I just pray with people for healing and the rest is up to the Lord\,”\n\n			 \n				\n				\n				Healing ministry comes from Jesus. There were many of Jesus’ healings recorded in the new testament. Included are the man healed from paralysis (physical) and he said to him “Your sins are forgiven” (spiritual healing). Jesus’ entire ministry was directed toward spiritual ends. Its primary objective was to restore human beings to proper relationship with God. Emotional needs of people were also addressed by Jesus.\n			 \n			 \n				\n				\n			 \n				\n				\n				\n				\n				\n				\n				\n			\n			 \n				\n				\n				\n				\n				\n				Fr John Rea has been praying with people in this way since 1974.\n \nFr John is a humble man\, there is however little doubt that he is an agent of God’s healing and he leaves a trail of healings in his tracks.\n \nAmong this list of those healed as a result of Fr John’s prayer with them\, includes a woman whose cancer disappeared\, a child violinist whose crushed hand was cured\, and a dumb teenager with paralysis whose paralysis and speech was reversed.\n			 \n			 \n				\n				\n			 \n				\n				\n				\n				\n				\n				\n				Everyone is welcome to attend this healing service!
URL:https://christchurchnorth.org.nz/event/healing-service-with-fr-john-rea-sm/
LOCATION:St Matthew’s Church\, 108 Jeffreys Road\, Christchurch\, Canterbury\, 8052\, New Zealand
ATTACH;FMTTYPE=image/png:https://christchurchnorth.org.nz/wp-content/uploads/2020/12/Healing-Service.png
END:VEVENT
BEGIN:VEVENT
DTSTART;TZID=Pacific/Auckland:20210221T120000
DTEND;TZID=Pacific/Auckland:20210221T150000
DTSTAMP:20210120T184211
CREATED:20201224T025228Z
LAST-MODIFIED:20210101T063202Z
UID:2088-1613908800-1613919600@christchurchnorth.org.nz
SUMMARY:Parish Picnic
DESCRIPTION:Join us for our first Parish Picnic as the new parish! Bring your friends and whānau to Spencer Park along with your picnic baskets full of food. \nMore information will follow!
URL:https://christchurchnorth.org.nz/event/parish-picnic/
LOCATION:Spencer Park\, 110 Heyders Road\, Christchurch\, 8053\, New Zealand
ATTACH;FMTTYPE=image/png:https://christchurchnorth.org.nz/wp-content/uploads/2020/12/Parish-Picnic-Cover.png
ORGANIZER;CN="The%20Catholic%20Parish%20of%20Christchurch%20North":MAILTO:admin@christchurch.org.nz
END:VEVENT
BEGIN:VEVENT
DTSTART;TZID=Pacific/Auckland:20210223T190000
DTEND;TZID=Pacific/Auckland:20210223T203000
DTSTAMP:20210120T184211
CREATED:20210112T034720Z
LAST-MODIFIED:20210114T191534Z
UID:2205-1614106800-1614112200@christchurchnorth.org.nz
SUMMARY:New Buildings Consultation
DESCRIPTION:Please join us as we begin our public parish consultations regarding the new Church and new Pastoral Community Centre. \nWe encourage as many of you to come to one of these meetings to explore what this may look like as we continue to make concrete Bishop’s plan for our parish\, while making sure that these buildings will serve the new parish’s mission statement and needs. \nEach session is limited to 24 people. Please RSVP by using the form below. \nLook forward to seeing you there!
URL:https://christchurchnorth.org.nz/event/new-buildings-consultation/
LOCATION:Christ the King Pastoral Centre\, 90 Greers Road\, Christchurch\, 8053\, New Zealand
CATEGORIES:New Buildings Consultation
ATTACH;FMTTYPE=image/png:https://christchurchnorth.org.nz/wp-content/uploads/2021/01/Building-Consultations-1.png
ORGANIZER;CN="North%20Parish%20Building%20Committee":MAILTO:buildingchair@christchurchnorth.org.nz
END:VEVENT
BEGIN:VEVENT
DTSTART;TZID=Pacific/Auckland:20210224T190000
DTEND;TZID=Pacific/Auckland:20210224T203000
DTSTAMP:20210120T184211
CREATED:20210112T034953Z
LAST-MODIFIED:20210114T191456Z
UID:2208-1614193200-1614198600@christchurchnorth.org.nz
SUMMARY:New Buildings Consultation
DESCRIPTION:Please join us as we begin our public parish consultations regarding the new Church and new Pastoral Community Centre. \nWe encourage as many of you to come to one of these meetings to explore what this may look like as we continue to make concrete Bishop’s plan for our parish\, while making sure that these buildings will serve the new parish’s mission statement and needs. \nEach session is limited to 24 people. Please RSVP by using the form below. \nLook forward to seeing you there!
URL:https://christchurchnorth.org.nz/event/new-buildings-consultation-2/
LOCATION:St Joseph’s Pastoral Centre\, 133 Main North Road\, Christchurch\, 8052\, New Zealand
CATEGORIES:New Buildings Consultation
ATTACH;FMTTYPE=image/png:https://christchurchnorth.org.nz/wp-content/uploads/2021/01/Building-Consultations-1.png
ORGANIZER;CN="North%20Parish%20Building%20Committee":MAILTO:buildingchair@christchurchnorth.org.nz
END:VEVENT
END:VCALENDAR