BEGIN:VCALENDAR
VERSION:2.0
PRODID:-//Catholic Parish of Christchurch North - ECPv5.3.1.1//NONSGML v1.0//EN
CALSCALE:GREGORIAN
METHOD:PUBLISH
X-WR-CALNAME:Catholic Parish of Christchurch North
X-ORIGINAL-URL:https://christchurchnorth.org.nz
X-WR-CALDESC:Events for Catholic Parish of Christchurch North
BEGIN:VTIMEZONE
TZID:Pacific/Auckland
BEGIN:STANDARD
TZOFFSETFROM:+1300
TZOFFSETTO:+1200
TZNAME:NZST
DTSTART:20210403T140000
END:STANDARD
BEGIN:DAYLIGHT
TZOFFSETFROM:+1200
TZOFFSETTO:+1300
TZNAME:NZDT
DTSTART:20210925T140000
END:DAYLIGHT
END:VTIMEZONE
BEGIN:VEVENT
DTSTART;TZID=Pacific/Auckland:20210127T190000
DTEND;TZID=Pacific/Auckland:20210127T203000
DTSTAMP:20210120T184402
CREATED:20210111T220144Z
LAST-MODIFIED:20210112T065259Z
UID:2164-1611774000-1611779400@christchurchnorth.org.nz
SUMMARY:Adoration with Praise and Worship
DESCRIPTION:All young adults (and the wider parish community) are invited to Adoration with Praise and Worship \nThis is held at the beautiful St. Bede’s College Chapel and we’d love to see you as we pray in front of the Blessed Sacrament\, while being led in worship by the North Parish Youth Music Team. \nSupper afterwards. \nAll are welcome!
URL:https://christchurchnorth.org.nz/event/adoration-with-praise-and-worship/
LOCATION:St Bede’s College Chapel\, 210 Main North Road\, Christchurch\, 8051\, New Zealand
ATTACH;FMTTYPE=image/png:https://christchurchnorth.org.nz/wp-content/uploads/2021/01/young-adults-adoration.png
ORGANIZER;CN="North%20Parish%20Youth%20%26%20Young%20Adults":MAILTO:youth@christchurchnorth.org.nz
END:VEVENT
END:VCALENDAR