BEGIN:VCALENDAR
VERSION:2.0
PRODID:-//Catholic Parish of Christchurch North - ECPv5.3.1.1//NONSGML v1.0//EN
CALSCALE:GREGORIAN
METHOD:PUBLISH
X-WR-CALNAME:Catholic Parish of Christchurch North
X-ORIGINAL-URL:https://christchurchnorth.org.nz
X-WR-CALDESC:Events for Catholic Parish of Christchurch North
BEGIN:VTIMEZONE
TZID:Pacific/Auckland
BEGIN:STANDARD
TZOFFSETFROM:+1300
TZOFFSETTO:+1200
TZNAME:NZST
DTSTART:20210403T140000
END:STANDARD
BEGIN:DAYLIGHT
TZOFFSETFROM:+1200
TZOFFSETTO:+1300
TZNAME:NZDT
DTSTART:20210925T140000
END:DAYLIGHT
END:VTIMEZONE
BEGIN:VEVENT
DTSTART;TZID=Pacific/Auckland:20210131T150000
DTEND;TZID=Pacific/Auckland:20210131T163000
DTSTAMP:20210120T183842
CREATED:20201227T023556Z
LAST-MODIFIED:20201227T023556Z
UID:2128-1612105200-1612110600@christchurchnorth.org.nz
SUMMARY:Volunteer Appreciation Afternoon Tea
DESCRIPTION:All volunteers who help in the different ministries in the parish are invited to an afternoon tea. It is our way of saying ‘Thank You!’\nNo need to bring anything\, just bring yourselves!
URL:https://christchurchnorth.org.nz/event/volunteer-appreciation-afternoon-tea/
LOCATION:St Matthew’s Church Hall\, 108 Jeffreys Road\, Christchurch\, Canterbury\, 8052\, New Zealand
ATTACH;FMTTYPE=image/png:https://christchurchnorth.org.nz/wp-content/uploads/2020/12/Thank-you-volunteers.png
END:VEVENT
END:VCALENDAR