BEGIN:VCALENDAR
VERSION:2.0
PRODID:-//Catholic Parish of Christchurch North - ECPv5.3.1.1//NONSGML v1.0//EN
CALSCALE:GREGORIAN
METHOD:PUBLISH
X-WR-CALNAME:Catholic Parish of Christchurch North
X-ORIGINAL-URL:https://christchurchnorth.org.nz
X-WR-CALDESC:Events for Catholic Parish of Christchurch North
BEGIN:VTIMEZONE
TZID:Pacific/Auckland
BEGIN:STANDARD
TZOFFSETFROM:+1300
TZOFFSETTO:+1200
TZNAME:NZST
DTSTART:20210403T140000
END:STANDARD
BEGIN:DAYLIGHT
TZOFFSETFROM:+1200
TZOFFSETTO:+1300
TZNAME:NZDT
DTSTART:20210925T140000
END:DAYLIGHT
END:VTIMEZONE
BEGIN:VEVENT
DTSTART;TZID=Pacific/Auckland:20210221T120000
DTEND;TZID=Pacific/Auckland:20210221T150000
DTSTAMP:20210120T184124
CREATED:20201224T025228Z
LAST-MODIFIED:20210101T063202Z
UID:2088-1613908800-1613919600@christchurchnorth.org.nz
SUMMARY:Parish Picnic
DESCRIPTION:Join us for our first Parish Picnic as the new parish! Bring your friends and whānau to Spencer Park along with your picnic baskets full of food. \nMore information will follow!
URL:https://christchurchnorth.org.nz/event/parish-picnic/
LOCATION:Spencer Park\, 110 Heyders Road\, Christchurch\, 8053\, New Zealand
ATTACH;FMTTYPE=image/png:https://christchurchnorth.org.nz/wp-content/uploads/2020/12/Parish-Picnic-Cover.png
ORGANIZER;CN="The%20Catholic%20Parish%20of%20Christchurch%20North":MAILTO:admin@christchurch.org.nz
END:VEVENT
END:VCALENDAR